BEGIN:VCALENDAR
VERSION:2.0
PRODID:-//Le Clos du Temps - ECPv6.15.20//NONSGML v1.0//EN
CALSCALE:GREGORIAN
METHOD:PUBLISH
X-ORIGINAL-URL:https://leclosdutemps-lieu-stage.fr
X-WR-CALDESC:Évènements pour Le Clos du Temps
REFRESH-INTERVAL;VALUE=DURATION:PT1H
X-Robots-Tag:noindex
X-PUBLISHED-TTL:PT1H
BEGIN:VTIMEZONE
TZID:Europe/Paris
BEGIN:DAYLIGHT
TZOFFSETFROM:+0100
TZOFFSETTO:+0200
TZNAME:CEST
DTSTART:20190331T010000
END:DAYLIGHT
BEGIN:STANDARD
TZOFFSETFROM:+0200
TZOFFSETTO:+0100
TZNAME:CET
DTSTART:20191027T010000
END:STANDARD
BEGIN:DAYLIGHT
TZOFFSETFROM:+0100
TZOFFSETTO:+0200
TZNAME:CEST
DTSTART:20200329T010000
END:DAYLIGHT
BEGIN:STANDARD
TZOFFSETFROM:+0200
TZOFFSETTO:+0100
TZNAME:CET
DTSTART:20201025T010000
END:STANDARD
BEGIN:DAYLIGHT
TZOFFSETFROM:+0100
TZOFFSETTO:+0200
TZNAME:CEST
DTSTART:20210328T010000
END:DAYLIGHT
BEGIN:STANDARD
TZOFFSETFROM:+0200
TZOFFSETTO:+0100
TZNAME:CET
DTSTART:20211031T010000
END:STANDARD
END:VTIMEZONE
BEGIN:VEVENT
DTSTART;TZID=Europe/Paris:20200906T093000
DTEND;TZID=Europe/Paris:20200906T180000
DTSTAMP:20260423T000114
CREATED:20200715T163556Z
LAST-MODIFIED:20200903T135515Z
UID:2523-1599384600-1599415200@leclosdutemps-lieu-stage.fr
SUMMARY:"Prânâyâma et Méditation" - Module 01 - Rattrapage
DESCRIPTION:Formation Yoga\n“Prânâyâma et Méditation”\n250 heures de formation\, 18 fascicules\, enregistrements audio des pratiques\nentre Angers et Tours\nJournée de rattrapage pour le module 01:\nDimanche 06 Septembre (09h30 à 18h)\n  \n  \nPour consulter le détail de cette formation\, Appuyez ICI  \n\nVous êtes en quête de sens et vous aspirez à développer une conscience de soi ?\nVous cherchez à suivre une formation approfondie de la respiration Prânâyâma et de la Méditation?\nVous souhaitez acquérir une connaissance pratique\, théorique et symbolique du Yoga Traditionnel?\nVous désirez devenir professeur de Prânâyâma ou apprendre la méditation et le Prânâyâma à titre personnel?\n\nLa formation Yoga “Prânâyâma et Méditation” vise à former les participants aux deux branches fondamentales du Yoga Traditionnel: La respiration Prânâyâma et la Méditation. Elle permet également d’intégrer la respiration Prânâyâma dans la vie quotidienne. C’est une formation approfondie et complète du Yoga Traditionnel provenant de Bénarès (Le Natha Yoga). \nCe cycle de formation s’étend sur 18 weekends à raison d’un weekend tous les deux mois\nen Maine et Loire dans un lieu paisible et historique du 16ème siècle entre Angers et Tours. \nLa formation est validée par un diplôme de professeur de Prânâyâma de la Fédération Française des Ecoles de Yoga.\nLa formation a l’avantage d’être proposé à un petit groupe afin de recevoir un enseignement individualisé et de qualité. \nEn cas d’absence à un week-end de regroupement\, ou si vous rejoignez le groupe après le début du cursus\, il est possible d’aménager des week-end de rattrapage (sur demande et sous réserve d’un nombre minimum de participants). \nPENSEZ A RESERVER VOTRE PLACE POUR CETTE ANNEE \nA qui s’adresse la formation?\n\nToute personne souhaitant apprendre\, à titre personnel\, la respiration Prânâyâma et la méditation afin d’explorer les mécanismes physiques\, mentaux et émotionnels en lien avec le stress et les émotions\,\nPratiquants de yoga débutants ou confirmés. Chercheurs ayant d’autres approches d’intériorité.\nEnseignants de Yoga voulant approfondir leurs connaissances et leurs pratiques.\nToute personne souhaitant s’engager dans un processus de transformation personnelle et dans une dynamique de groupe.\nTous ceux aspirant à développer une conscience de soi ou souhaitant acquérir des moyens d’accès et de transmission dans cette voie.\n\nQuelle que soit votre motivation\, la Formation Yoga Prânâyâma et Méditation 250h certifiée par la Fédération Française des Ecoles de Yoga (F.F.E.Y.) vous donnera la légitimité d’enseigner et de transmettre votre savoir. \nPour suivre cette formation\, une motivation réelle et un engagement personnel sont souhaités. \n \n\nL’enseignement\nTout au long de la formation Yoga\, vous allez: \n\nApprendre les bases du PRANAYAMA et approfondir toute la matière du Prânâyâma: philosophie et métaphysique\,\nDévelopper et comprendre l’art de la méditation\,\nApprendre les postures fondamentales de la méditation.\nApprofondir votre matière personnelle et intime : qui vous êtes et comment vous fonctionnez\, comment développer vos énergies\, les cadrer et les canaliser\, comment obtenir une force et une stabilité dans votre pratique et travailler sur une vraie longévité.\nIdentifier les sensations du corps\, les mouvements émotionnels & les interférences du mental.\nRessentir et comprendre la relation entre la respiration et le corps.\nApprendre à construire un cours en éduquant et en préparant le corps et le souffle de façon progressive\n\nIl n’y a pas un yoga\, il y a plusieurs formes de yoga\, chaque pratique est personnelle. La personne qui a reçu les enseignements classiques\, rigoureux et traditionnels peut les transmettre à son tour. Comme le musicien qui a appris le solfège\, les gammes et le rythme\, celui ou celle qui pratique le yoga peut jouer et créer sa propre symphonie\, composer et marier les couleurs\, les énergies\, les mudras\, les bandhas et les clés\, etc. \nLa personne qui entre dans la danse sacrée du yoga est le véritable maître de la symphonie. Et cette symphonie c’est elle-même. \nTrois phases seront abordées au cours de votre formation Yoga : \n\nL’apprentissage\,\nLa pratique personnelle\,\nLa transmission et l’enseignement.\n\n\nL’Enseignant \nNé en 1966\, Pascal GONTIER\, formateur diplômé de la F.F.E.Y. et maître spirituel\, a commencé à enseigner la méditation en 1992 pour ensuite transmettre les enseignements du Yoga depuis 2006. Il a publié plusieurs articles sur le Yoga dans le magazine “Santé Yoga” et a été interviewé par la radio YogaPartout-Canada. (voir les articles ICI) \nLe Yoga\, la respiration prânâyâma\, la méditation à la pleine conscience et la connexion avec la nature sont pour lui des axes d’ouverture essentiels pour développer son potentiel humain et maintenir un équilibre physique\, émotionnel\, mental et spirituel. Ainsi développer une vie intérieure. \nPour plus de renseignements sur votre formateur Pascal Gontier \nPour consulter le détail de cette formation\, Appuyez ICI  \nDéroulement et inscription \nDurée : 3 ans (18 weekends de formation)\nFréquence : 6 weekends par an : Samedi de 9h30 à 18h et Dimanche de 9h30 à 16h \nun fascicule et les enregistrements des pratiques sont remis à chaque week-end \nDébut de la prochaine formation : 06 Septembre 2020  \nDiplôme : un diplôme de professeur de Prânâyâma de la Fédération Française des Ecoles de Yoga sera remise à la fin de la formation lors d’une cérémonie. \nVilles proches : Angers (30 minutes)\, le Mans | Tours | Nantes (1 heure)\, Rennes (2 heures)\nIl existe des trains directes d’Angers vers les villes suivantes: Paris\, Strasbourg\, Lille\, Nantes\, Rennes… \nTarif de la formation Yoga “Prânâyâma et Méditation”: \n\n270€ par session de deux jours (soit 135€ / mois)\n+ 35€ par an pour l’affiliation à la Fédération pour ceux qui souhaitent recevoir un diplôme de la Fédération.\nun acompte de 270€ est demandé pour valider votre inscription.\nLe prix comprend les 250 heures de formations\, les fascicules fournis lors des weekends de formation\nLe prix ne comprend pas les frais d’hébergement et de nourriture. Possibilité d’hébergement sur place (vous pouvez nous contacter pour en savoir plus)\nPour les prises en charges ainsi que pour les professionnels\, le prix sera majoré de 20%\nPour suivre cette formation\, un engagement personnel est demandé (engagement annuel).\nChaque année est payable d’avance. Possibilité de paiement mensuel.\n\nInscription & Renseignements : \n\n\n\nContacter votre formateur Pascal Gontier par le formulaire ci-dessous\nS’entretenir par téléphone avec Pascal Gontier\nEnsuite pour valider votre inscription\, un acompte de 270€ sera à régler à l’ordre de “Le Clos Du Temps”\n\npar chèque à l’adresse:\nLe Clos Du Temps\n32 route de Gée\n49250 Fontaine Guérin\nou par virement bancaire\nIBAN: FR76 1027 8394 1000 0221 6310 256\nBIC: CMCIFR2A\n\n\n\n\n\n\n	Remarque : JavaScript est requis pour ce contenu.\n\n\n    \n\n\n        \n        \n        \n  \n\n  \nPour recevoir 1 fois par mois tous nos prochains événements et articles\, vous pouvez remplir le formulaire suivant pour vous inscrire à la newsletter: : \n\n	\n				\n\n													\n\n										\n																					\n												Votre e-mail											\n										\n										\n										\n										\n\n										\n										\n									\n																		\n\n										\n																					\n												Votre prénom											\n										\n										\n										\n										\n\n										\n										\n									\n																		\n\n										\n																					\n												Votre nom											\n										\n										\n										\n										\n\n										\n										\n									\n									\n				\n				\n\n				\n				\n\n				\n				\n\n				\n				 Rejoignez la Newsletter
URL:https://leclosdutemps-lieu-stage.fr/stage/formation-yoga-pranayama-et-meditation-module-01
LOCATION:Le Clos du Temps : Lieu de Stages\, 32 route de Gée\, Fontaine Guérin\, 49250\, France
CATEGORIES:Bien être,Développement personnel,Formation,Méditation,Yoga
ATTACH;FMTTYPE=image/jpeg:https://leclosdutemps-lieu-stage.fr/wp-content/uploads/2019/01/formation_yoga_pranayama_meditation_angers-e1548269378639.jpg
END:VEVENT
END:VCALENDAR